Package: cummeRbund Version: 2.48.0 Command: rm -rf cummeRbund.buildbin-libdir && mkdir cummeRbund.buildbin-libdir && /Users/biocbuild/BBS/utils/build-universal.sh cummeRbund_2.48.0.tar.gz /Library/Frameworks/R.framework/Resources/bin/R cummeRbund.buildbin-libdir StartedAt: 2025-02-04 12:45:35 -0500 (Tue, 04 Feb 2025) EndedAt: 2025-02-04 12:47:46 -0500 (Tue, 04 Feb 2025) EllapsedTime: 131.2 seconds RetCode: 0 Status: OK PackageFile: cummeRbund_2.48.0.tgz PackageFileSize: 3.599 MiB