Package: cummeRbund Version: 2.48.0 Command: /Library/Frameworks/R.framework/Resources/bin/R CMD check --install=check:cummeRbund.install-out.txt --library=/Library/Frameworks/R.framework/Resources/library --no-vignettes --timings cummeRbund_2.48.0.tar.gz StartedAt: 2025-02-04 02:03:49 -0500 (Tue, 04 Feb 2025) EndedAt: 2025-02-04 02:18:07 -0500 (Tue, 04 Feb 2025) EllapsedTime: 858.1 seconds RetCode: 0 Status: WARNINGS CheckDir: cummeRbund.Rcheck Warnings: 1