Package: cummeRbund Version: 2.48.0 Command: rm -rf cummeRbund.buildbin-libdir && mkdir cummeRbund.buildbin-libdir && F:\biocbuild\bbs-3.20-bioc\R\bin\R.exe CMD INSTALL --build --library=cummeRbund.buildbin-libdir cummeRbund_2.48.0.tar.gz StartedAt: 2025-02-04 08:18:28 -0500 (Tue, 04 Feb 2025) EndedAt: 2025-02-04 08:21:04 -0500 (Tue, 04 Feb 2025) EllapsedTime: 156.0 seconds RetCode: 0 Status: OK PackageFile: cummeRbund_2.48.0.zip PackageFileSize: 3.313 MiB