Package: cummeRbund Version: 2.48.0 Command: chmod a+r cummeRbund -R && F:\biocbuild\bbs-3.20-bioc\R\bin\R.exe CMD build --keep-empty-dirs --no-resave-data cummeRbund StartedAt: 2025-02-03 18:26:42 -0500 (Mon, 03 Feb 2025) EndedAt: 2025-02-03 18:29:30 -0500 (Mon, 03 Feb 2025) EllapsedTime: 167.9 seconds RetCode: 0 Status: OK PackageFile: cummeRbund_2.48.0.tar.gz PackageFileSize: 2.338 MiB