Package: customCMPdb Version: 1.16.0 Command: rm -rf customCMPdb.buildbin-libdir && mkdir customCMPdb.buildbin-libdir && /Users/biocbuild/BBS/utils/build-universal.sh customCMPdb_1.16.0.tar.gz /Library/Frameworks/R.framework/Resources/bin/R customCMPdb.buildbin-libdir StartedAt: 2025-02-05 15:27:48 -0500 (Wed, 05 Feb 2025) EndedAt: 2025-02-05 15:28:10 -0500 (Wed, 05 Feb 2025) EllapsedTime: 22.5 seconds RetCode: 0 Status: OK PackageFile: customCMPdb_1.16.0.tgz PackageFileSize: 734.3 KiB