Package: customCMPdb Version: 1.16.0 Command: /Library/Frameworks/R.framework/Resources/bin/R CMD build --keep-empty-dirs --no-resave-data customCMPdb StartedAt: 2025-02-03 21:44:33 -0500 (Mon, 03 Feb 2025) EndedAt: 2025-02-03 21:46:59 -0500 (Mon, 03 Feb 2025) EllapsedTime: 146.1 seconds RetCode: 0 Status: OK PackageFile: customCMPdb_1.16.0.tar.gz PackageFileSize: 694 KiB