Package: customCMPdb Version: 1.16.0 Command: /home/biocbuild/bbs-3.20-bioc/R/bin/R CMD build --keep-empty-dirs --no-resave-data --md5 customCMPdb StartedAt: 2025-02-03 17:02:58 -0500 (Mon, 03 Feb 2025) EndedAt: 2025-02-03 17:04:46 -0500 (Mon, 03 Feb 2025) EllapsedTime: 108.1 seconds RetCode: 0 Status: OK PackageFile: customCMPdb_1.16.0.tar.gz PackageFileSize: 684.9 KiB