Package: cytoMEM Version: 1.10.0 Command: /Library/Frameworks/R.framework/Resources/bin/R CMD check --install=check:cytoMEM.install-out.txt --library=/Library/Frameworks/R.framework/Resources/library --no-vignettes --timings cytoMEM_1.10.0.tar.gz StartedAt: 2025-01-31 16:35:19 -0500 (Fri, 31 Jan 2025) EndedAt: 2025-01-31 16:36:29 -0500 (Fri, 31 Jan 2025) EllapsedTime: 70.1 seconds RetCode: 0 Status: OK CheckDir: cytoMEM.Rcheck Warnings: 0