Package: cytoMEM Version: 1.10.0 Command: rm -rf cytoMEM.buildbin-libdir && mkdir cytoMEM.buildbin-libdir && /Users/biocbuild/BBS/utils/build-universal.sh cytoMEM_1.10.0.tar.gz /Library/Frameworks/R.framework/Resources/bin/R cytoMEM.buildbin-libdir StartedAt: 2025-02-04 12:46:27 -0500 (Tue, 04 Feb 2025) EndedAt: 2025-02-04 12:46:45 -0500 (Tue, 04 Feb 2025) EllapsedTime: 18.3 seconds RetCode: 0 Status: OK PackageFile: cytoMEM_1.10.0.tgz PackageFileSize: 3.12 MiB