Package: cytoMEM Version: 1.10.0 Command: /Library/Frameworks/R.framework/Resources/bin/R CMD INSTALL cytoMEM StartedAt: 2025-01-30 15:23:12 -0500 (Thu, 30 Jan 2025) EndedAt: 2025-01-30 15:23:30 -0500 (Thu, 30 Jan 2025) EllapsedTime: 17.8 seconds RetCode: 0 Status: OK