Package: cytoMEM Version: 1.10.0 Command: chmod a+r cytoMEM -R && F:\biocbuild\bbs-3.20-bioc\R\bin\R.exe CMD build --keep-empty-dirs --no-resave-data cytoMEM StartedAt: 2025-02-03 18:28:41 -0500 (Mon, 03 Feb 2025) EndedAt: 2025-02-03 18:29:39 -0500 (Mon, 03 Feb 2025) EllapsedTime: 57.6 seconds RetCode: 0 Status: OK PackageFile: cytoMEM_1.10.0.tar.gz PackageFileSize: 2.944 MiB