Package: cytoMEM Version: 1.10.0 Command: F:\biocbuild\bbs-3.20-bioc\R\bin\R.exe CMD check --no-multiarch --install=check:cytoMEM.install-out.txt --library=F:\biocbuild\bbs-3.20-bioc\R\library --no-vignettes --timings cytoMEM_1.10.0.tar.gz StartedAt: 2025-02-04 00:51:27 -0500 (Tue, 04 Feb 2025) EndedAt: 2025-02-04 00:52:38 -0500 (Tue, 04 Feb 2025) EllapsedTime: 71.2 seconds RetCode: 0 Status: OK CheckDir: cytoMEM.Rcheck Warnings: 0