Package: cytofQC Version: 1.6.0 Maintainer: Jill Lundell MaintainerEmail: jflundell at gmail.com git_url: https://git.bioconductor.org/packages/cytofQC git_branch: RELEASE_3_20 git_last_commit: b0619f4 git_last_commit_date: 2024-10-29 11:19:01 -0500 (Tue, 29 Oct 2024)