Package: cytofQC Version: 1.6.0 Command: /Library/Frameworks/R.framework/Resources/bin/R CMD INSTALL cytofQC StartedAt: 2025-02-03 18:13:31 -0500 (Mon, 03 Feb 2025) EndedAt: 2025-02-03 18:14:11 -0500 (Mon, 03 Feb 2025) EllapsedTime: 39.2 seconds RetCode: 0 Status: OK