Package: cytofQC Version: 1.6.0 Command: chmod a+r cytofQC -R && F:\biocbuild\bbs-3.20-bioc\R\bin\R.exe CMD build --keep-empty-dirs --no-resave-data cytofQC StartedAt: 2025-02-03 18:28:05 -0500 (Mon, 03 Feb 2025) EndedAt: 2025-02-03 18:31:16 -0500 (Mon, 03 Feb 2025) EllapsedTime: 190.9 seconds RetCode: 0 Status: OK PackageFile: cytofQC_1.6.0.tar.gz PackageFileSize: 1.243 MiB