Package: cytofQC Version: 1.6.0 Command: /home/biocbuild/R/R/bin/R CMD build --keep-empty-dirs --no-resave-data cytofQC StartedAt: 2025-02-03 22:57:50 -0000 (Mon, 03 Feb 2025) EndedAt: 2025-02-03 22:59:30 -0000 (Mon, 03 Feb 2025) EllapsedTime: 100.0 seconds RetCode: 0 Status: OK PackageFile: cytofQC_1.6.0.tar.gz PackageFileSize: 1.292 MiB