Package: cytomapper Version: 1.18.0 Command: /Library/Frameworks/R.framework/Resources/bin/R CMD build --keep-empty-dirs --no-resave-data cytomapper StartedAt: 2025-02-10 22:01:54 -0500 (Mon, 10 Feb 2025) EndedAt: 2025-02-10 22:03:46 -0500 (Mon, 10 Feb 2025) EllapsedTime: 112.0 seconds RetCode: 0 Status: OK PackageFile: cytomapper_1.18.0.tar.gz PackageFileSize: 21.49 MiB