Package: cytomapper Version: 1.18.0 Command: /Library/Frameworks/R.framework/Resources/bin/R CMD check --install=check:cytomapper.install-out.txt --library=/Library/Frameworks/R.framework/Resources/library --no-vignettes --timings cytomapper_1.18.0.tar.gz StartedAt: 2025-02-04 16:59:40 -0500 (Tue, 04 Feb 2025) EndedAt: 2025-02-04 17:15:48 -0500 (Tue, 04 Feb 2025) EllapsedTime: 968.1 seconds RetCode: 0 Status: OK CheckDir: cytomapper.Rcheck Warnings: 0