Package: cytomapper Version: 1.18.0 Command: rm -rf cytomapper.buildbin-libdir && mkdir cytomapper.buildbin-libdir && /Users/biocbuild/BBS/utils/build-universal.sh cytomapper_1.18.0.tar.gz /Library/Frameworks/R.framework/Resources/bin/R cytomapper.buildbin-libdir StartedAt: 2025-01-31 12:38:07 -0500 (Fri, 31 Jan 2025) EndedAt: 2025-01-31 12:40:23 -0500 (Fri, 31 Jan 2025) EllapsedTime: 136.2 seconds RetCode: 0 Status: OK PackageFile: cytomapper_1.18.0.tgz PackageFileSize: 5.443 MiB