Package: cytomapper Version: 1.18.0 Command: /Library/Frameworks/R.framework/Resources/bin/R CMD build --keep-empty-dirs --no-resave-data cytomapper StartedAt: 2025-02-03 18:16:20 -0500 (Mon, 03 Feb 2025) EndedAt: 2025-02-03 18:20:01 -0500 (Mon, 03 Feb 2025) EllapsedTime: 221.6 seconds RetCode: 0 Status: OK PackageFile: cytomapper_1.18.0.tar.gz PackageFileSize: 21.48 MiB