Package: cytomapper Version: 1.18.0 Command: /home/biocbuild/bbs-3.20-bioc/R/bin/R CMD INSTALL cytomapper StartedAt: 2025-02-03 15:49:22 -0500 (Mon, 03 Feb 2025) EndedAt: 2025-02-03 15:50:17 -0500 (Mon, 03 Feb 2025) EllapsedTime: 54.6 seconds RetCode: 0 Status: OK