Package: cytomapper Version: 1.18.0 Command: rm -rf cytomapper.buildbin-libdir && mkdir cytomapper.buildbin-libdir && F:\biocbuild\bbs-3.20-bioc\R\bin\R.exe CMD INSTALL --build --library=cytomapper.buildbin-libdir cytomapper_1.18.0.tar.gz StartedAt: 2025-02-04 08:18:58 -0500 (Tue, 04 Feb 2025) EndedAt: 2025-02-04 08:20:37 -0500 (Tue, 04 Feb 2025) EllapsedTime: 99.1 seconds RetCode: 0 Status: OK PackageFile: cytomapper_1.18.0.zip PackageFileSize: 4.868 MiB