Package: cytomapper Version: 1.18.0 Command: F:\biocbuild\bbs-3.20-bioc\R\bin\R.exe CMD INSTALL cytomapper StartedAt: 2025-02-03 16:44:03 -0500 (Mon, 03 Feb 2025) EndedAt: 2025-02-03 16:45:24 -0500 (Mon, 03 Feb 2025) EllapsedTime: 81.8 seconds RetCode: 0 Status: OK