Package: cytomapper Version: 1.18.0 Command: /home/biocbuild/R/R/bin/R CMD INSTALL cytomapper StartedAt: 2025-02-03 21:03:34 -0000 (Mon, 03 Feb 2025) EndedAt: 2025-02-03 21:03:36 -0000 (Mon, 03 Feb 2025) EllapsedTime: 2.1 seconds RetCode: 1 Status: ERROR