Package: cytoviewer Version: 1.6.0 Command: /Library/Frameworks/R.framework/Resources/bin/R CMD INSTALL cytoviewer StartedAt: 2025-02-10 17:20:32 -0500 (Mon, 10 Feb 2025) EndedAt: 2025-02-10 17:21:26 -0500 (Mon, 10 Feb 2025) EllapsedTime: 53.5 seconds RetCode: 0 Status: OK