Package: cytoviewer Version: 1.6.0 Command: /Library/Frameworks/R.framework/Resources/bin/R CMD check --install=check:cytoviewer.install-out.txt --library=/Library/Frameworks/R.framework/Resources/library --no-vignettes --timings cytoviewer_1.6.0.tar.gz StartedAt: 2025-02-04 02:13:48 -0500 (Tue, 04 Feb 2025) EndedAt: 2025-02-04 02:28:51 -0500 (Tue, 04 Feb 2025) EllapsedTime: 903.0 seconds RetCode: 0 Status: OK CheckDir: cytoviewer.Rcheck Warnings: 0