Package: cytoviewer Version: 1.6.0 Command: /Library/Frameworks/R.framework/Resources/bin/R CMD INSTALL cytoviewer StartedAt: 2025-02-03 16:19:09 -0500 (Mon, 03 Feb 2025) EndedAt: 2025-02-03 16:20:54 -0500 (Mon, 03 Feb 2025) EllapsedTime: 104.6 seconds RetCode: 0 Status: OK