Package: cytoviewer Version: 1.6.0 Command: /home/biocbuild/bbs-3.20-bioc/R/bin/R CMD check --install=check:cytoviewer.install-out.txt --library=/home/biocbuild/bbs-3.20-bioc/R/site-library --timings cytoviewer_1.6.0.tar.gz StartedAt: 2025-02-03 21:31:37 -0500 (Mon, 03 Feb 2025) EndedAt: 2025-02-03 21:38:00 -0500 (Mon, 03 Feb 2025) EllapsedTime: 382.3 seconds RetCode: 0 Status: OK CheckDir: cytoviewer.Rcheck Warnings: 0