Package: cytoviewer Version: 1.6.0 Command: F:\biocbuild\bbs-3.20-bioc\R\bin\R.exe CMD INSTALL cytoviewer StartedAt: 2025-02-10 16:38:32 -0500 (Mon, 10 Feb 2025) EndedAt: 2025-02-10 16:39:24 -0500 (Mon, 10 Feb 2025) EllapsedTime: 52.1 seconds RetCode: 0 Status: OK