Package: cytoviewer Version: 1.6.0 Command: /home/biocbuild/R/R/bin/R CMD INSTALL cytoviewer StartedAt: 2025-02-03 21:03:38 -0000 (Mon, 03 Feb 2025) EndedAt: 2025-02-03 21:03:39 -0000 (Mon, 03 Feb 2025) EllapsedTime: 0.6 seconds RetCode: 1 Status: ERROR