Package: dada2 Version: 1.34.0 Command: rm -rf dada2.buildbin-libdir && mkdir dada2.buildbin-libdir && /Users/biocbuild/BBS/utils/build-universal.sh dada2_1.34.0.tar.gz /Library/Frameworks/R.framework/Resources/bin/R dada2.buildbin-libdir StartedAt: 2025-02-01 14:34:25 -0500 (Sat, 01 Feb 2025) EndedAt: 2025-02-01 14:35:57 -0500 (Sat, 01 Feb 2025) EllapsedTime: 92.5 seconds RetCode: 0 Status: OK PackageFile: dada2_1.34.0.tgz PackageFileSize: 3.345 MiB