Package: dada2 Version: 1.34.0 Command: /Library/Frameworks/R.framework/Resources/bin/R CMD check --install=check:dada2.install-out.txt --library=/Library/Frameworks/R.framework/Resources/library --no-vignettes --timings dada2_1.34.0.tar.gz StartedAt: 2025-01-31 16:41:07 -0500 (Fri, 31 Jan 2025) EndedAt: 2025-01-31 16:45:53 -0500 (Fri, 31 Jan 2025) EllapsedTime: 286.3 seconds RetCode: 0 Status: WARNINGS CheckDir: dada2.Rcheck Warnings: 1