Package: dada2 Version: 1.34.0 Command: /Library/Frameworks/R.framework/Resources/bin/R CMD INSTALL dada2 StartedAt: 2025-01-30 16:16:48 -0500 (Thu, 30 Jan 2025) EndedAt: 2025-01-30 16:18:14 -0500 (Thu, 30 Jan 2025) EllapsedTime: 85.7 seconds RetCode: 0 Status: OK