Package: dada2 Version: 1.34.0 Command: /Library/Frameworks/R.framework/Resources/bin/R CMD INSTALL dada2 StartedAt: 2025-01-30 15:46:44 -0500 (Thu, 30 Jan 2025) EndedAt: 2025-01-30 15:49:42 -0500 (Thu, 30 Jan 2025) EllapsedTime: 178.1 seconds RetCode: 0 Status: OK