Package: dada2 Version: 1.34.0 Command: /home/biocbuild/bbs-3.20-bioc/R/bin/R CMD build --keep-empty-dirs --no-resave-data --md5 dada2 StartedAt: 2025-01-30 16:55:30 -0500 (Thu, 30 Jan 2025) EndedAt: 2025-01-30 16:57:17 -0500 (Thu, 30 Jan 2025) EllapsedTime: 107.1 seconds RetCode: 0 Status: OK PackageFile: dada2_1.34.0.tar.gz PackageFileSize: 2.752 MiB