Package: dada2 Version: 1.34.0 Command: /home/biocbuild/bbs-3.20-bioc/R/bin/R CMD check --install=check:dada2.install-out.txt --library=/home/biocbuild/bbs-3.20-bioc/R/site-library --timings dada2_1.34.0.tar.gz StartedAt: 2025-01-30 21:21:52 -0500 (Thu, 30 Jan 2025) EndedAt: 2025-01-30 21:26:35 -0500 (Thu, 30 Jan 2025) EllapsedTime: 282.3 seconds RetCode: 0 Status: WARNINGS CheckDir: dada2.Rcheck Warnings: 1