Package: dada2 Version: 1.34.0 Command: /home/biocbuild/bbs-3.20-bioc/R/bin/R CMD INSTALL dada2 StartedAt: 2025-01-30 15:25:57 -0500 (Thu, 30 Jan 2025) EndedAt: 2025-01-30 15:27:20 -0500 (Thu, 30 Jan 2025) EllapsedTime: 82.8 seconds RetCode: 0 Status: OK