Package: dada2 Version: 1.34.0 Command: rm -rf dada2.buildbin-libdir && mkdir dada2.buildbin-libdir && F:\biocbuild\bbs-3.20-bioc\R\bin\R.exe CMD INSTALL --build --library=dada2.buildbin-libdir dada2_1.34.0.tar.gz StartedAt: 2025-01-31 08:29:30 -0500 (Fri, 31 Jan 2025) EndedAt: 2025-01-31 08:31:26 -0500 (Fri, 31 Jan 2025) EllapsedTime: 115.4 seconds RetCode: 0 Status: OK PackageFile: dada2_1.34.0.zip PackageFileSize: 3.395 MiB