Package: dada2 Version: 1.34.0 Command: chmod a+r dada2 -R && F:\biocbuild\bbs-3.20-bioc\R\bin\R.exe CMD build --keep-empty-dirs --no-resave-data dada2 StartedAt: 2025-01-30 18:15:15 -0500 (Thu, 30 Jan 2025) EndedAt: 2025-01-30 18:18:17 -0500 (Thu, 30 Jan 2025) EllapsedTime: 181.8 seconds RetCode: 0 Status: OK PackageFile: dada2_1.34.0.tar.gz PackageFileSize: 2.505 MiB