Package: dada2 Version: 1.34.0 Command: F:\biocbuild\bbs-3.20-bioc\R\bin\R.exe CMD check --no-multiarch --install=check:dada2.install-out.txt --library=F:\biocbuild\bbs-3.20-bioc\R\library --no-vignettes --timings dada2_1.34.0.tar.gz StartedAt: 2025-01-31 01:05:49 -0500 (Fri, 31 Jan 2025) EndedAt: 2025-01-31 01:11:37 -0500 (Fri, 31 Jan 2025) EllapsedTime: 348.6 seconds RetCode: 0 Status: WARNINGS CheckDir: dada2.Rcheck Warnings: 1