Package: dada2 Version: 1.34.0 Command: /home/biocbuild/R/R/bin/R CMD build --keep-empty-dirs --no-resave-data dada2 StartedAt: 2025-01-30 22:59:25 -0000 (Thu, 30 Jan 2025) EndedAt: 2025-01-30 23:01:59 -0000 (Thu, 30 Jan 2025) EllapsedTime: 153.1 seconds RetCode: 1 Status: ERROR PackageFile: None PackageFileSize: NA