Package: dar Version: 1.2.0 Command: /Library/Frameworks/R.framework/Resources/bin/R CMD check --install=check:dar.install-out.txt --library=/Library/Frameworks/R.framework/Resources/library --no-vignettes --timings dar_1.2.0.tar.gz StartedAt: 2025-02-04 17:14:51 -0500 (Tue, 04 Feb 2025) EndedAt: 2025-02-04 17:27:46 -0500 (Tue, 04 Feb 2025) EllapsedTime: 775.4 seconds RetCode: 0 Status: OK CheckDir: dar.Rcheck Warnings: 0