Package: dar Version: 1.2.0 Command: /Library/Frameworks/R.framework/Resources/bin/R CMD INSTALL dar StartedAt: 2025-02-03 17:47:33 -0500 (Mon, 03 Feb 2025) EndedAt: 2025-02-03 17:47:58 -0500 (Mon, 03 Feb 2025) EllapsedTime: 25.6 seconds RetCode: 0 Status: OK