Package: dar Version: 1.2.0 Command: /Library/Frameworks/R.framework/Resources/bin/R CMD INSTALL dar StartedAt: 2025-02-03 16:38:02 -0500 (Mon, 03 Feb 2025) EndedAt: 2025-02-03 16:38:53 -0500 (Mon, 03 Feb 2025) EllapsedTime: 51.2 seconds RetCode: 0 Status: OK