Package: dar Version: 1.2.0 Command: chmod a+r dar -R && F:\biocbuild\bbs-3.20-bioc\R\bin\R.exe CMD build --keep-empty-dirs --no-resave-data dar StartedAt: 2025-02-03 18:30:57 -0500 (Mon, 03 Feb 2025) EndedAt: 2025-02-03 18:34:16 -0500 (Mon, 03 Feb 2025) EllapsedTime: 199.5 seconds RetCode: 0 Status: OK PackageFile: dar_1.2.0.tar.gz PackageFileSize: 1.852 MiB