Package: dar Version: 1.2.0 Command: /home/biocbuild/R/R/bin/R CMD INSTALL dar StartedAt: 2025-02-03 21:16:56 -0000 (Mon, 03 Feb 2025) EndedAt: 2025-02-03 21:17:26 -0000 (Mon, 03 Feb 2025) EllapsedTime: 29.8 seconds RetCode: 0 Status: OK