Package: dcanr Version: 1.22.0 Command: /Library/Frameworks/R.framework/Resources/bin/R CMD INSTALL dcanr StartedAt: 2024-11-08 15:22:29 -0500 (Fri, 08 Nov 2024) EndedAt: 2024-11-08 15:22:31 -0500 (Fri, 08 Nov 2024) EllapsedTime: 2.2 seconds RetCode: 0 Status: OK