Package: dcanr Version: 1.22.0 Command: chmod a+r dcanr -R && F:\biocbuild\bbs-3.20-bioc\R\bin\R.exe CMD build --keep-empty-dirs --no-resave-data dcanr StartedAt: 2025-02-03 18:30:59 -0500 (Mon, 03 Feb 2025) EndedAt: 2025-02-03 18:32:22 -0500 (Mon, 03 Feb 2025) EllapsedTime: 83.6 seconds RetCode: 0 Status: OK PackageFile: dcanr_1.22.0.tar.gz PackageFileSize: 1.276 MiB