Package: dcanr Version: 1.22.0 Command: /home/biocbuild/R/R/bin/R CMD build --keep-empty-dirs --no-resave-data dcanr StartedAt: 2025-02-03 23:01:42 -0000 (Mon, 03 Feb 2025) EndedAt: 2025-02-03 23:02:55 -0000 (Mon, 03 Feb 2025) EllapsedTime: 73.0 seconds RetCode: 0 Status: OK PackageFile: dcanr_1.22.0.tar.gz PackageFileSize: 1.455 MiB