Package: dcanr Version: 1.22.0 Command: /home/biocbuild/R/R/bin/R CMD INSTALL dcanr StartedAt: 2025-02-03 20:47:18 -0000 (Mon, 03 Feb 2025) EndedAt: 2025-02-03 20:47:22 -0000 (Mon, 03 Feb 2025) EllapsedTime: 4.1 seconds RetCode: 0 Status: OK